BEGIN:VCALENDAR
VERSION:2.0
PRODID:-//Der Varta-Führer - ECPv6.15.20//NONSGML v1.0//EN
CALSCALE:GREGORIAN
METHOD:PUBLISH
X-WR-CALNAME:Der Varta-Führer
X-ORIGINAL-URL:https://www.varta-guide.de
X-WR-CALDESC:Veranstaltungen für Der Varta-Führer
REFRESH-INTERVAL;VALUE=DURATION:PT1H
X-Robots-Tag:noindex
X-PUBLISHED-TTL:PT1H
BEGIN:VTIMEZONE
TZID:Europe/Berlin
BEGIN:DAYLIGHT
TZOFFSETFROM:+0100
TZOFFSETTO:+0200
TZNAME:CEST
DTSTART:20220327T010000
END:DAYLIGHT
BEGIN:STANDARD
TZOFFSETFROM:+0200
TZOFFSETTO:+0100
TZNAME:CET
DTSTART:20221030T010000
END:STANDARD
BEGIN:DAYLIGHT
TZOFFSETFROM:+0100
TZOFFSETTO:+0200
TZNAME:CEST
DTSTART:20230326T010000
END:DAYLIGHT
BEGIN:STANDARD
TZOFFSETFROM:+0200
TZOFFSETTO:+0100
TZNAME:CET
DTSTART:20231029T010000
END:STANDARD
BEGIN:DAYLIGHT
TZOFFSETFROM:+0100
TZOFFSETTO:+0200
TZNAME:CEST
DTSTART:20240331T010000
END:DAYLIGHT
BEGIN:STANDARD
TZOFFSETFROM:+0200
TZOFFSETTO:+0100
TZNAME:CET
DTSTART:20241027T010000
END:STANDARD
END:VTIMEZONE
BEGIN:VEVENT
DTSTART;VALUE=DATE:20231201
DTEND;VALUE=DATE:20231212
DTSTAMP:20260421T124344
CREATED:20231123T072720Z
LAST-MODIFIED:20231123T075936Z
UID:127448-1701392400-1702256399@www.varta-guide.de
SUMMARY:Der glutenfreie Weihnachtsmarkt
DESCRIPTION:Der erste glutenfreie Weihnachtsmarkt am Bischenberg im Jahr 2016 übertraf die Erwartungen der Macher bei weitem. Auch die folgenden Jahre 2017 bis 2022 waren ein voller Erfolg. Von weit her kamen die Besucher – aus den Beneluxländern\, dem Elsass\, der Schweiz und ganz Deutschland. Heutzutage leiden viele an Glutenunverträglichkeit und da bedeutet solch ein glutenfreier Weihnachtsmarkt für diese Menschen Unbeschwertheit und reuelosen Genuss. Tipp: Übernachtungsmöglichkeiten finden Sie auf www.varta-guide.de \nDer glutenfreie Weihnachtsmarkt am Bischenberg findet 2023 an den Wochenenden 2./3.12.2023 und 9./10.12.2023 statt.
URL:https://www.varta-guide.de/der-glutenfreie-weihnachtsmarkt
LOCATION:Glutenfreier Weihnachtsmarkt Bischenberg\, Bergstraße 23\, Sasbachwalden\, 77887\, Deutschland
CATEGORIES:Events,Genuss
ATTACH;FMTTYPE=image/jpeg:https://www.varta-guide.de/wp-content/uploads/2019/12/Glutenfrei-Schriftzug.jpg
END:VEVENT
END:VCALENDAR